Workbook
Name Ausgaben: Finanzierungsplan!$B$9:$B$29
Name Ausgaben: Verwendungsnachweis!$B$7:$B$29
Name Eigenanteil: Tabelle1!$A$1:$A$3
Name Einenanteil: Tabelle1!$A$1:$A$3
Name Einnahmen: Finanzierungsplan!$B$35:$B$44
Name Einnahmen: Verwendungsnachweis!$B$35:$B$40
Name Kennzahlen: Eingabeliste!$A$1:$A$21

Sheet Finanzierungsplan
B2: Finanzierungsplan
A3: Antragsteller:
A4: zum Antrag vom:
A5: Projekt:
A6: Aktenzeichen: | B6: BPKB /2024
A8: Ausgaben
A9: Personalkosten
C17: Summe Personalkosten | D17: =SUM(C9:C16) -> 0
A18: Sachkosten
C30: Summe Sachkosten | D30: =SUM(C18:C29) -> 0
B32: Ausgaben gesamt | D32: =SUM(D30,D17) -> 0
B33: =IF(C44>0,"Zielwert bei der u.g. Förderung"," ") | C33: =C44/(1-C34) -> 0 | D33: =IF(D47>D32,"Die Ausgaben sind zu gering"," ")
A34: Einnahmen | B34: Vom Antragsteller selbst zu finanzieren sind | C34: 0 | D34: der Projektkosten
B35: das sind mindestens | C35: =ROUND(D32*C34,2) -> 0
A36: Eigenmittel
C39: Summe Eigenmittel | D39: =SUM(C36:C38) -> 0
D40: =IF(D39<C35,"Die Eigenmittel sind zu gering"," ")
A41: Drittmittel
B44: beantragte Fördermittel (Nr. 1 im Antrag) | C44: =D32-(SUM(C36:C38)+SUM(C41:C42)) -> 0
C45: Summe Fremdmittel | D45: =SUM(C41:C44) -> 0
B47: Einnahmen insgesamt | D47: =SUM(D45+D39) -> 0
A49: Es wird bestätigt, dass
B50: Belege für Leistungen Dritter sind beigefügt
B51: Belege für Leistungen Dritter werden umgehend nachgereicht
B52: wir sind / ich bin nicht zum Vorsteuerabzug berechtigt
B53: wir sind / ich bin zum Vorsteuerabzug berechtigt, es wurden nur Nettobeträge eingetragen
A54: Berlin, den
A55: Rechtsverbindliche Unterschriften der zur rechtsgeschäftlichen Vertretung befugten Personen mit Stempel / Name in Druckbuchstaben

Sheet Ausgaben
A1: =Finanzierungsplan!B6 -> BPKB /2024 | E1: Gesamt | F1: =SUM(F3:F57) -> 3650
A2: Nr. des Belegs | B2: Tag der Zahlung | C2: Zahlungsempfänger | D2: Grund der Ausgaben | E2: Zuordnung laut Finanzplan | F2: Ausgabe
E3: honorar | F3: 2000
E4: honorar 2 | F4: 1000
E5: Material | F5: 450
E6: Material 2 | F6: 200
D58: Gesamtausgaben | F58: =SUM(F3:F57) -> 3650

Sheet Einnahmen
A1: =Ausgaben!A1 -> BPKB /2024 | E1: Gesamt | F1: =SUM(F3:F54) -> 3700
A2: Nr. des Belegs | B2: Tag der Zahlung | C2: Einzahler | D2: Grund der Einnahmen | E2: Zuordnung laut Finanzplan | F2: Einnahmen
C3: LHK | D3: Zuwendung | E3: beantragte Fördermittel (Nr. 1 im Antrag) | F3: 3700
D55: Gesamteinnahmen | F55: =SUM(F3:F54) -> 3700

Sheet Verwendungsnachweis
B1: Verwendungsnachweis
A2: Antragsteller: | B2: =Finanzierungsplan!B3 -> 0
A3: zum Antrag vom: | B3: =Finanzierungsplan!B4 -> 0
A4: Projekt: | B4: =Finanzierungsplan!B5 -> 0
A5: Aktenzeichen | B5: =Finanzierungsplan!B6 -> BPKB /2024
A6: Ausgaben
A7: =Finanzierungsplan!A9 -> Personalkosten | B7: =Finanzierungsplan!B9 -> 0 | C7: =SUMIF(Ausgaben!E:E,B7,Ausgaben!F:F) -> 0
A8: =Finanzierungsplan!A10 -> 0 | B8: =Finanzierungsplan!B10 -> 0 | C8: =SUMIF(Ausgaben!E:E,B8,Ausgaben!F:F) -> 0
A9: =Finanzierungsplan!A11 -> 0 | B9: =Finanzierungsplan!B11 -> 0 | C9: =SUMIF(Ausgaben!E:E,B9,Ausgaben!F:F) -> 0
A10: =Finanzierungsplan!A12 -> 0 | B10: =Finanzierungsplan!B12 -> 0 | C10: =SUMIF(Ausgaben!E:E,B10,Ausgaben!F:F) -> 0
A11: =Finanzierungsplan!A13 -> 0 | B11: =Finanzierungsplan!B13 -> 0 | C11: =SUMIF(Ausgaben!E:E,B11,Ausgaben!F:F) -> 0
B12: =Finanzierungsplan!B14 -> 0 | C12: =SUMIF(Ausgaben!E:E,B12,Ausgaben!F:F) -> 0
A13: =Finanzierungsplan!A14 -> 0 | B13: =Finanzierungsplan!B15 -> 0 | C13: =SUMIF(Ausgaben!E:E,B13,Ausgaben!F:F) -> 0
A14: =Finanzierungsplan!A15 -> 0 | B14: =Finanzierungsplan!B16 -> 0 | C14: =SUMIF(Ausgaben!E:E,B14,Ausgaben!F:F) -> 0
A15: =Finanzierungsplan!A16 -> 0 | B15: =Finanzierungsplan!B17 -> 0 | C15: =SUMIF(Ausgaben!E:E,B15,Ausgaben!F:F) -> 0
A16: =Finanzierungsplan!A17 -> 0 | C16: Summe Personalkosten | D16: =SUM(C7:C15) -> 0
A18: =Finanzierungsplan!A18 -> Sachkosten | B18: =Finanzierungsplan!B18 -> 0 | C18: =SUMIF(Ausgaben!E:E,B18,Ausgaben!F:F) -> 0
A19: =Finanzierungsplan!A20 -> 0 | B19: =Finanzierungsplan!B19 -> 0 | C19: =SUMIF(Ausgaben!E:E,B19,Ausgaben!F:F) -> 0
A20: =Finanzierungsplan!A21 -> 0 | B20: =Finanzierungsplan!B20 -> 0 | C20: =SUMIF(Ausgaben!E:E,B20,Ausgaben!F:F) -> 0
A21: =Finanzierungsplan!A22 -> 0 | B21: =Finanzierungsplan!B21 -> 0 | C21: =SUMIF(Ausgaben!E:E,B21,Ausgaben!F:F) -> 0
B22: =Finanzierungsplan!B22 -> 0 | C22: =SUMIF(Ausgaben!E:E,B22,Ausgaben!F:F) -> 0
B23: =Finanzierungsplan!B23 -> 0 | C23: =SUMIF(Ausgaben!E:E,B23,Ausgaben!F:F) -> 0
B24: =Finanzierungsplan!B24 -> 0 | C24: =SUMIF(Ausgaben!E:E,B24,Ausgaben!F:F) -> 0
B25: =Finanzierungsplan!B25 -> 0 | C25: =SUMIF(Ausgaben!E:E,B25,Ausgaben!F:F) -> 0
B26: =Finanzierungsplan!B26 -> 0 | C26: =SUMIF(Ausgaben!E:E,B26,Ausgaben!F:F) -> 0
B27: =Finanzierungsplan!B27 -> 0 | C27: =SUMIF(Ausgaben!E:E,B27,Ausgaben!F:F) -> 0
B28: =Finanzierungsplan!B28 -> 0 | C28: =SUMIF(Ausgaben!E:E,B28,Ausgaben!F:F) -> 0
B29: =Finanzierungsplan!B29 -> 0 | C29: =SUMIF(Ausgaben!E:E,B29,Ausgaben!F:F) -> 0
C30: Summe Sachkosten | D30: =SUM(C18:C29) -> 0
B32: Ausgaben gesamt | D32: =SUM(D30,D16) -> 0
A34: Einnahmen
A35: =Finanzierungsplan!A35 -> 0 | B35: =Finanzierungsplan!B36 -> 0 | C35: =SUMIF(Einnahmen!E:E,B35,Einnahmen!F:F) -> 0
B36: =Finanzierungsplan!B37 -> 0 | C36: =SUMIF(Einnahmen!E:E,B36,Einnahmen!F:F) -> 0
A37: =Finanzierungsplan!A37 -> 0 | B37: =Finanzierungsplan!B38 -> 0 | C37: =SUMIF(Einnahmen!E:E,B37,Einnahmen!F:F) -> 0
A38: =Finanzierungsplan!A38 -> 0 | B38: =Finanzierungsplan!B41 -> 0 | C38: =SUMIF(Einnahmen!E:E,B38,Einnahmen!F:F) -> 0
A39: =Finanzierungsplan!A39 -> 0 | B39: =Finanzierungsplan!B42 -> 0 | C39: =SUMIF(Einnahmen!E:E,B39,Einnahmen!F:F) -> 0
A40: =Finanzierungsplan!A40 -> 0 | B40: =Finanzierungsplan!B44 -> beantragte Fördermittel (Nr. 1 im Antrag) | C40: =SUMIF(Einnahmen!E:E,B40,Einnahmen!F:F) -> 3700
C41: insgesamt | D41: =SUM(C35:C40) -> 3700
B43: Einnahmen insgesamt | D43: =SUM(D41) -> 3700
B45: Ausgaben | C45: =SUM(D32) -> 0
...

Sheet Vergleich Planung-KONTROLLE 
A1: =Verwendungsnachweis!A1 -> 0 | B1: =Verwendungsnachweis!B1 -> Verwendungsnachweis | C1: =Verwendungsnachweis!C1 -> 0 | D1: =Verwendungsnachweis!D1 -> 0 | E1: Planung | G1: =Verwendungsnachweis!F1 -> 0
A2: =Verwendungsnachweis!A2 -> Antragsteller: | B2: =Finanzierungsplan!B3 -> 0 | E2: =Verwendungsnachweis!E2 -> 0 | G2: =Verwendungsnachweis!F2 -> 0
A3: =Verwendungsnachweis!A3 -> zum Antrag vom: | B3: =Finanzierungsplan!B4 -> 0 | E3: =Verwendungsnachweis!E3 -> 0 | G3: =Verwendungsnachweis!F3 -> 0
A4: =Verwendungsnachweis!A4 -> Projekt: | B4: =Finanzierungsplan!B5 -> 0 | E4: =Verwendungsnachweis!E4 -> 0 | G4: =Verwendungsnachweis!F4 -> 0
A5: =Verwendungsnachweis!A5 -> Aktenzeichen | B5: =Finanzierungsplan!B6 -> BPKB /2024 | E5: =Verwendungsnachweis!E5 -> 0
A6: =Verwendungsnachweis!A6 -> Ausgaben | B6: =Verwendungsnachweis!B6 -> 0 | C6: =Verwendungsnachweis!C6 -> 0 | D6: =Verwendungsnachweis!D6 -> 0 | E6: Finanzplan | F6: Rest | G6: Abweichung | H6: Maximale Überschreitung | J6: Berechnung nach Kürzung | L6: Kürzungsbetrag
A7: =Verwendungsnachweis!A7 -> Personalkosten | B7: =Verwendungsnachweis!B7 -> 0 | C7: =Verwendungsnachweis!C7 -> 0 | E7: =Finanzierungsplan!C9 -> 0 | F7: =E7-C7 -> 0 | G7: =IF(E7>0,(F7/E7)*-1,0) -> 0 | H7: =IF(G7>0.2,E7*0.2,0) -> 0 | J7: =IF(G7>0.2,(IF(E7>0,E7+H7,C7)),C7) -> 0 | L7: =J7-C7 -> 0
B8: =Verwendungsnachweis!B8 -> 0 | C8: =Verwendungsnachweis!C8 -> 0 | E8: =Finanzierungsplan!C10 -> 0 | F8: =E8-C8 -> 0 | G8: =IF(E8>0,(F8/E8)*-1,0) -> 0 | H8: =IF(G8>0.2,E8*0.2,0) -> 0 | J8: =IF(G8>0.2,(IF(E8>0,E8+H8,C8)),C8) -> 0 | L8: =J8-C8 -> 0
B9: =Verwendungsnachweis!B9 -> 0 | C9: =Verwendungsnachweis!C9 -> 0 | E9: =Finanzierungsplan!C11 -> 0 | F9: =E9-C9 -> 0 | G9: =IF(E9>0,(F9/E9)*-1,0) -> 0 | H9: =IF(G9>0.2,E9*0.2,0) -> 0 | J9: =IF(G9>0.2,(IF(E9>0,E9+H9,C9)),C9) -> 0 | L9: =J9-C9 -> 0
B10: =Verwendungsnachweis!B10 -> 0 | C10: =Verwendungsnachweis!C10 -> 0 | E10: =Finanzierungsplan!C12 -> 0 | F10: =E10-C10 -> 0 | G10: =IF(E10>0,(F10/E10)*-1,0) -> 0 | H10: =IF(G10>0.2,E10*0.2,0) -> 0 | J10: =IF(G10>0.2,(IF(E10>0,E10+H10,C10)),C10) -> 0 | L10: =J10-C10 -> 0
B11: =Verwendungsnachweis!B11 -> 0 | C11: =Verwendungsnachweis!C11 -> 0 | E11: =Finanzierungsplan!C13 -> 0 | F11: =E11-C11 -> 0 | G11: =IF(E11>0,(F11/E11)*-1,0) -> 0 | H11: =IF(G11>0.2,E11*0.2,0) -> 0 | J11: =IF(G11>0.2,(IF(E11>0,E11+H11,C11)),C11) -> 0 | L11: =J11-C11 -> 0
B12: =Verwendungsnachweis!B13 -> 0 | C12: =Verwendungsnachweis!C13 -> 0 | E12: =Finanzierungsplan!C14 -> 0 | F12: =E12-C12 -> 0 | G12: =IF(E12>0,(F12/E12)*-1,0) -> 0 | H12: =IF(G12>0.2,E12*0.2,0) -> 0 | J12: =IF(G12>0.2,(IF(E12>0,E12+H12,C12)),C12) -> 0 | L12: =J12-C12 -> 0
B13: =Verwendungsnachweis!B14 -> 0 | C13: =Verwendungsnachweis!C14 -> 0 | E13: =Finanzierungsplan!C15 -> 0 | F13: =E13-C13 -> 0 | G13: =IF(E13>0,(F13/E13)*-1,0) -> 0 | H13: =IF(G13>0.2,E13*0.2,0) -> 0 | J13: =IF(G13>0.2,(IF(E13>0,E13+H13,C13)),C13) -> 0 | L13: =J13-C13 -> 0
B14: =Verwendungsnachweis!B15 -> 0 | C14: =Verwendungsnachweis!C15 -> 0 | E14: =Finanzierungsplan!C16 -> 0 | F14: =E14-C14 -> 0 | G14: =IF(E14>0,(F14/E14)*-1,0) -> 0 | H14: =IF(G14>0.2,E14*0.2,0) -> 0 | J14: =IF(G14>0.2,(IF(E14>0,E14+H14,C14)),C14) -> 0 | L14: =J14-C14 -> 0
C15: =SUM(C6:C14) -> 0 | E15: =SUM(E7:E14) -> 0 | F15: =E15-C15 -> 0 | G15: =IF(E15>0,(F15/E15)*-1,0) -> 0 | H15: =SUM(H7:H14) -> 0 | J15: =SUM(J7:J14) -> 0 | L15: =J15-C15 -> 0
G16: =IF(E16>0,(F16/E16)*-1,0) -> 0 | L16: =J16-C16 -> 0
A17: =Verwendungsnachweis!A18 -> Sachkosten | B17: =Verwendungsnachweis!B18 -> 0 | C17: =Verwendungsnachweis!C18 -> 0 | E17: =Finanzierungsplan!C18 -> 0 | F17: =E17-C17 -> 0 | G17: =IF(E17>0,(F17/E17)*-1,0) -> 0 | H17: =IF(G17>0.2,E17*0.2,0) -> 0 | J17: =IF(G17>0.2,(IF(E17>0,E17+H17,C17)),C17) -> 0 | L17: =J17-C17 -> 0
B18: =Verwendungsnachweis!B19 -> 0 | C18: =Verwendungsnachweis!C19 -> 0 | E18: =Finanzierungsplan!C19 -> 0 | F18: =E18-C18 -> 0 | G18: =IF(E18>0,(F18/E18)*-1,0) -> 0 | H18: =IF(G18>0.2,E18*0.2,0) -> 0 | J18: =IF(G18>0.2,(IF(E18>0,E18+H18,C18)),C18) -> 0 | L18: =J18-C18 -> 0
B19: =Verwendungsnachweis!B20 -> 0 | C19: =Verwendungsnachweis!C20 -> 0 | E19: =Finanzierungsplan!C20 -> 0 | F19: =E19-C19 -> 0 | G19: =IF(E19>0,(F19/E19)*-1,0) -> 0 | H19: =IF(G19>0.2,E19*0.2,0) -> 0 | J19: =IF(G19>0.2,(IF(E19>0,E19+H19,C19)),C19) -> 0 | L19: =J19-C19 -> 0
B20: =Verwendungsnachweis!B21 -> 0 | C20: =Verwendungsnachweis!C21 -> 0 | E20: =Finanzierungsplan!C21 -> 0 | F20: =E20-C20 -> 0 | G20: =IF(E20>0,(F20/E20)*-1,0) -> 0 | H20: =IF(G20>0.2,E20*0.2,0) -> 0 | J20: =IF(G20>0.2,(IF(E20>0,E20+H20,C20)),C20) -> 0 | L20: =J20-C20 -> 0
B21: =Verwendungsnachweis!B22 -> 0 | C21: =Verwendungsnachweis!C22 -> 0 | E21: =Finanzierungsplan!C22 -> 0 | F21: =E21-C21 -> 0 | G21: =IF(E21>0,(F21/E21)*-1,0) -> 0 | H21: =IF(G21>0.2,E21*0.2,0) -> 0 | J21: =IF(G21>0.2,(IF(E21>0,E21+H21,C21)),C21) -> 0 | L21: =J21-C21 -> 0
B22: =Verwendungsnachweis!B23 -> 0 | C22: =Verwendungsnachweis!C23 -> 0 | E22: =Finanzierungsplan!C23 -> 0 | F22: =E22-C22 -> 0 | G22: =IF(E22>0,(F22/E22)*-1,0) -> 0 | H22: =IF(G22>0.2,E22*0.2,0) -> 0 | J22: =IF(G22>0.2,(IF(E22>0,E22+H22,C22)),C22) -> 0 | L22: =J22-C22 -> 0
B23: =Verwendungsnachweis!B24 -> 0 | C23: =Verwendungsnachweis!C24 -> 0 | E23: =Finanzierungsplan!C24 -> 0 | F23: =E23-C23 -> 0 | G23: =IF(E23>0,(F23/E23)*-1,0) -> 0 | H23: =IF(G23>0.2,E23*0.2,0) -> 0 | J23: =IF(G23>0.2,(IF(E23>0,E23+H23,C23)),C23) -> 0 | L23: =J23-C23 -> 0
B24: =Verwendungsnachweis!B25 -> 0 | C24: =Verwendungsnachweis!C25 -> 0 | E24: =Finanzierungsplan!C25 -> 0 | F24: =E24-C24 -> 0 | G24: =IF(E24>0,(F24/E24)*-1,0) -> 0 | H24: =IF(G24>0.2,E24*0.2,0) -> 0 | J24: =IF(G24>0.2,(IF(E24>0,E24+H24,C24)),C24) -> 0 | L24: =J24-C24 -> 0
B25: =Verwendungsnachweis!B26 -> 0 | C25: =Verwendungsnachweis!C26 -> 0 | E25: =Finanzierungsplan!C26 -> 0 | F25: =E25-C25 -> 0 | G25: =IF(E25>0,(F25/E25)*-1,0) -> 0 | H25: =IF(G25>0.2,E25*0.2,0) -> 0 | J25: =IF(G25>0.2,(IF(E25>0,E25+H25,C25)),C25) -> 0 | L25: =J25-C25 -> 0
B26: =Verwendungsnachweis!B27 -> 0 | C26: =Verwendungsnachweis!C27 -> 0 | E26: =Finanzierungsplan!C27 -> 0 | F26: =E26-C26 -> 0 | G26: =IF(E26>0,(F26/E26)*-1,0) -> 0 | H26: =IF(G26>0.2,E26*0.2,0) -> 0 | J26: =IF(G26>0.2,(IF(E26>0,E26+H26,C26)),C26) -> 0 | L26: =J26-C26 -> 0
B27: =Verwendungsnachweis!B28 -> 0 | C27: =Verwendungsnachweis!C28 -> 0 | E27: =Finanzierungsplan!C28 -> 0 | F27: =E27-C27 -> 0 | G27: =IF(E27>0,(F27/E27)*-1,0) -> 0 | H27: =IF(G27>0.2,E27*0.2,0) -> 0 | J27: =IF(G27>0.2,(IF(E27>0,E27+H27,C27)),C27) -> 0 | L27: =J27-C27 -> 0
B28: =Verwendungsnachweis!B29 -> 0 | C28: =Verwendungsnachweis!C29 -> 0 | E28: =Finanzierungsplan!C29 -> 0 | F28: =E28-C28 -> 0 | G28: =IF(E28>0,(F28/E28)*-1,0) -> 0 | H28: =IF(G28>0.2,E28*0.2,0) -> 0 | J28: =IF(G28>0.2,(IF(E28>0,E28+H28,C28)),C28) -> 0 | L28: =J28-C28 -> 0
B29: =Verwendungsnachweis!C30 -> Summe Sachkosten | C29: =SUM(C17:C28) -> 0 | E29: =SUM(E17:E28) -> 0 | F29: =E29-C29 -> 0 | G29: =IF(E29>0,(F29/E29)*-1,0) -> 0 | H29: =SUM(H17:H28) -> 0 | J29: =SUM(J17:J28) -> 0 | L29: =J29-C29 -> 0
G30: =IF(E30>0,(F30/E30)*-1,0) -> 0 | L30: =J30-C30 -> 0
A31: =Verwendungsnachweis!A34 -> Einnahmen | B31: =Verwendungsnachweis!B34 -> 0 | L31: =J31-C31 -> 0
B32: =Verwendungsnachweis!B35 -> 0 | C32: =Verwendungsnachweis!C35 -> 0 | E32: =Finanzierungsplan!C36 -> 0 | F32: =E32-C32 -> 0 | J32: =C32 -> 0 | L32: =J32-C32 -> 0
B33: =Verwendungsnachweis!B36 -> 0 | C33: =Verwendungsnachweis!C36 -> 0 | E33: =Finanzierungsplan!C37 -> 0 | F33: =E33-C33 -> 0 | J33: =C33 -> 0 | L33: =J33-C33 -> 0
B34: =Verwendungsnachweis!B37 -> 0 | C34: =Verwendungsnachweis!C37 -> 0 | E34: =Finanzierungsplan!C38 -> 0 | F34: =E34-C34 -> 0 | J34: =C34 -> 0 | L34: =J34-C34 -> 0
B35: =Verwendungsnachweis!B38 -> 0 | E35: =Finanzierungsplan!C41 -> 0 | F35: =E35-C35 -> 0 | J35: =C35 -> 0 | L35: =J35-C35 -> 0
B36: =Verwendungsnachweis!B39 -> 0 | C36: =Verwendungsnachweis!C39 -> 0 | E36: =Finanzierungsplan!C42 -> 0 | F36: =E36-C36 -> 0 | J36: =C36 -> 0 | L36: =J36-C36 -> 0
B37: =Verwendungsnachweis!B40 -> beantragte Fördermittel (Nr. 1 im Antrag) | C37: =Verwendungsnachweis!C40 -> 3700 | E37: =Finanzierungsplan!C44 -> 0 | F37: =E37-C37 -> -3700 | J37: =C37 -> 3700 | L37: =J37-C37 -> 0
B38: =Verwendungsnachweis!C41 -> insgesamt | C38: =SUM(C32:C37) -> 3700 | E38: =SUM(E32:E37) -> 0 | F38: =E38-C38 -> -3700 | G38: =IF(E38>0,(F38/E38)*-1,0) -> 0 | J38: =SUM(J32:J37) -> 3700 | L38: =J38-C38 -> 0
G39: =IF(E39>0,(F39/E39)*-1,0) -> 0 | L39: =J39-C39 -> 0
B40: =Verwendungsnachweis!B45 -> Ausgaben | C40: =Verwendungsnachweis!C45 -> 0 | E40: =E15+E29 -> 0 | F40: =E40-C40 -> 0 | G40: =IF(E40>0,(F40/E40)*-1,0) -> 0 | J40: =J15+J29 -> 0 | L40: =J40-C40 -> 0
...

Sheet Tabelle1
A1: 0.2
A2: 0.5
A3: 0

Sheet Eingabeliste
A1: 1.1
A2: 1.2
A3: 1.3
A4: 1.4
A5: 2.1
A6: 2.2
A7: 2.3
A8: 2.4
A9: 3.1
A10: 3.2
A11: 3.3
A12: 3.4
... A21: 4.5
